BEGIN:VCALENDAR
VERSION:2.0
PRODID:-//Ramo Estendido - ECPv4.3.1.1//NONSGML v1.0//EN
CALSCALE:GREGORIAN
METHOD:PUBLISH
X-WR-CALNAME:Ramo Estendido
X-ORIGINAL-URL:https://ramoestendido.com.br
X-WR-CALDESC:Events for Ramo Estendido
BEGIN:VEVENT
DTSTART;TZID=America/Sao_Paulo:20260118T100000
DTEND;TZID=America/Sao_Paulo:20260118T123000
DTSTAMP:20260422T102108
CREATED:20250610T124706Z
LAST-MODIFIED:20251128T115124Z
UID:19781-1768730400-1768739400@ramoestendido.com.br
SUMMARY:Celebração de Primícias Mês de Shevat
DESCRIPTION:Celebração de Primícias do Mês de Shevat\, dia 18/01/26\, às 10h.\n\nSerá presencial e online pelo Youtube do Ramo Estendido\, Participe!
URL:https://ramoestendido.com.br/evento/celebracao-de-primicias-mes-de-shevat/
LOCATION:Avenida Treze de Maio 1654 - Nova Sousas \, Campinas\, São Paulo\, 13106-054\, Brasil
ATTACH;FMTTYPE=image/jpeg:https://ramoestendido.com.br/wp-content/uploads/2025/06/WhatsApp-Image-2025-11-28-at-08.33.41.jpeg
END:VEVENT
END:VCALENDAR